BEGIN:VCALENDAR
VERSION:2.0
PRODID:-//Contratero//ES
CALSCALE:GREGORIAN
METHOD:PUBLISH
BEGIN:VEVENT
UID:GEX 2020/422@contratero.es
DTSTAMP:20260423T045110Z
DTSTART:20200602T235959
DTEND:20200603T005959
SUMMARY:Cierre: Instalación\, puesta en marcha y mantenimiento de u
DESCRIPTION:Instalación\, puesta en marcha y mantenimiento de una Red Inalámbrica en el Marco del Mecanismo "Conectar Europa" (MCE) Iniciativa WIFI4EU.\\n\\nOrganismo: Junta de Gobierno Local de Ayuntamiento de Monturque\\n\\nVer en Contratero: https://contratero.es/contracts/GEX 2020/422
URL:https://contratero.es/contracts/GEX 2020/422
STATUS:CONFIRMED
BEGIN:VALARM
TRIGGER:-P1D
ACTION:DISPLAY
DESCRIPTION:Recordatorio: Instalación\, puesta en marcha 
END:VALARM
END:VEVENT
END:VCALENDAR